BEGIN:VCALENDAR
VERSION:2.0
PRODID:-//CSRSza - ECPv5.12.3//NONSGML v1.0//EN
CALSCALE:GREGORIAN
METHOD:PUBLISH
X-WR-CALNAME:CSRSza
X-ORIGINAL-URL:https://www.csrsza.com
X-WR-CALDESC:Events for CSRSza
REFRESH-INTERVAL;VALUE=DURATION:PT1H
X-Robots-Tag:noindex
X-PUBLISHED-TTL:PT1H
BEGIN:VTIMEZONE
TZID:UTC
BEGIN:STANDARD
TZOFFSETFROM:+0000
TZOFFSETTO:+0000
TZNAME:UTC
DTSTART:20210101T000000
END:STANDARD
TZID:Europe/Helsinki
BEGIN:DAYLIGHT
TZOFFSETFROM:+0200
TZOFFSETTO:+0300
TZNAME:EEST
DTSTART:20220327T010000
END:DAYLIGHT
BEGIN:STANDARD
TZOFFSETFROM:+0300
TZOFFSETTO:+0200
TZNAME:EET
DTSTART:20221030T010000
END:STANDARD
END:VTIMEZONE
BEGIN:VEVENT
DTSTART;VALUE=DATE:20210803
DTEND;VALUE=DATE:20210804
DTSTAMP:20260424T113814
CREATED:20210803T084501Z
LAST-MODIFIED:20220113T095935Z
UID:28577-1627948800-1628035199@www.csrsza.com
SUMMARY:Sample Training Intervention
DESCRIPTION:
URL:https://www.csrsza.com/event-training/sample-training-intervention/
LOCATION:CSRS ZA Cape Town Office\, Office 6\, 3 High Street\, Cape Town\, Bellville\, 7530\, South Africa
CATEGORIES:Western Cape
ORGANIZER;CN="CSRS%20ZA":MAILTO:enquiries@csrsza.com
END:VEVENT
BEGIN:VEVENT
DTSTART;TZID=Europe/Helsinki:20220114T090000
DTEND;TZID=Europe/Helsinki:20220114T170000
DTSTAMP:20260424T113814
CREATED:20220113T100711Z
LAST-MODIFIED:20220113T101451Z
UID:81708-1642150800-1642179600@www.csrsza.com
SUMMARY:Firstrac - Perform Basic Life Support and First Aid Procedures (Level 1) Training Course
DESCRIPTION: 
URL:https://www.csrsza.com/event-training/firstrac-perform-basic-life-support-and-first-aid-procedures-level-1-training-course/
LOCATION:CSRS ZA Cape Town Office\, Office 6\, 3 High Street\, Cape Town\, Bellville\, 7530\, South Africa
CATEGORIES:Western Cape
ATTACH;FMTTYPE=image/png:https://www.csrsza.com/wp-content/uploads/2021/09/Untitled-design-20.png
ORGANIZER;CN="CSRS%20ZA":MAILTO:enquiries@csrsza.com
END:VEVENT
BEGIN:VEVENT
DTSTART;TZID=UTC:20220720T090000
DTEND;TZID=UTC:20220720T140000
DTSTAMP:20260424T113814
CREATED:20220714T081834Z
LAST-MODIFIED:20220714T081836Z
UID:83058-1658307600-1658325600@www.csrsza.com
SUMMARY:Health & Safety Training (Part 1 & 2)
DESCRIPTION:
URL:https://www.csrsza.com/event-training/health-safety-training-part-1-2-2/
LOCATION:CSRS ZA Cape Town Office\, Office 6\, 3 High Street\, Cape Town\, Bellville\, 7530\, South Africa
ORGANIZER;CN="CSRS%20ZA":MAILTO:enquiries@csrsza.com
END:VEVENT
END:VCALENDAR